BEGIN:VCALENDAR
VERSION:2.0
PRODID:-//Théâtre de l&#039;Oignon - ECPv6.15.20//NONSGML v1.0//EN
CALSCALE:GREGORIAN
METHOD:PUBLISH
X-ORIGINAL-URL:https://loignon.eu
X-WR-CALDESC:Évènements pour Théâtre de l&#039;Oignon
REFRESH-INTERVAL;VALUE=DURATION:PT1H
X-Robots-Tag:noindex
X-PUBLISHED-TTL:PT1H
BEGIN:VTIMEZONE
TZID:Europe/Paris
BEGIN:DAYLIGHT
TZOFFSETFROM:+0100
TZOFFSETTO:+0200
TZNAME:CEST
DTSTART:20220327T010000
END:DAYLIGHT
BEGIN:STANDARD
TZOFFSETFROM:+0200
TZOFFSETTO:+0100
TZNAME:CET
DTSTART:20221030T010000
END:STANDARD
BEGIN:DAYLIGHT
TZOFFSETFROM:+0100
TZOFFSETTO:+0200
TZNAME:CEST
DTSTART:20230326T010000
END:DAYLIGHT
BEGIN:STANDARD
TZOFFSETFROM:+0200
TZOFFSETTO:+0100
TZNAME:CET
DTSTART:20231029T010000
END:STANDARD
BEGIN:DAYLIGHT
TZOFFSETFROM:+0100
TZOFFSETTO:+0200
TZNAME:CEST
DTSTART:20240331T010000
END:DAYLIGHT
BEGIN:STANDARD
TZOFFSETFROM:+0200
TZOFFSETTO:+0100
TZNAME:CET
DTSTART:20241027T010000
END:STANDARD
BEGIN:DAYLIGHT
TZOFFSETFROM:+0100
TZOFFSETTO:+0200
TZNAME:CEST
DTSTART:20250330T010000
END:DAYLIGHT
BEGIN:STANDARD
TZOFFSETFROM:+0200
TZOFFSETTO:+0100
TZNAME:CET
DTSTART:20251026T010000
END:STANDARD
END:VTIMEZONE
BEGIN:VEVENT
DTSTART;TZID=Europe/Paris:20231227T193000
DTEND;TZID=Europe/Paris:20231230T210000
DTSTAMP:20260424T001443
CREATED:20231201T133712Z
LAST-MODIFIED:20231201T133712Z
UID:1967-1703705400-1703970000@loignon.eu
SUMMARY:Random @Improvidence\, Lyon (F)
DESCRIPTION:« La vie est due au hasard\, l’impro aussi! » \nRandom est un spectacle d’improvisation dans sa forme la plus pure. \nRandom\, c’est un terrain de jeu pour ces grands enfants que sont les comédiens et une fenêtre ouverte sur leur imaginaire. \nA partir de rien\, comédiens et musiciens\, embarquent dans des univers qu’ils découvrent et explorent devant vous à partir de scénographies crées spontanément. \nNos funambules de l’instant marchent sur les fils du hasard\, se laissent porter par l’atmosphère du moment\, la musique\, la lumière et les éléments de décors placés aléatoirement sur scène.
URL:https://loignon.eu/event/random-improvidence-lyon-f/
LOCATION:Improvidence Lyon\, 6\, rue Chaponnay\, Lyon\, 69003\, France
CATEGORIES:Prochains Spectacles
END:VEVENT
BEGIN:VEVENT
DTSTART;TZID=Europe/Paris:20231231T170000
DTEND;TZID=Europe/Paris:20240101T010000
DTSTAMP:20260424T001443
CREATED:20241201T163043Z
LAST-MODIFIED:20241104T110519Z
UID:1970-1704042000-1704070800@loignon.eu
SUMMARY:Le Réveillon @L'Improvidence\, Lyon (F)
DESCRIPTION:Le réveillon de l’Improvidence\n\n\n\n   \n\n\n  \n\n\nPréparez-vous pour une soirée de réveillon inoubliable !\nNotre spectacle d’improvisation interactif transforme vos suggestions en succession de scènes hilarantes en temps réel interprétés par nos comédiens stars de l’impro !\nJoignez-vous à nous pour une expérience mémorable en famille ou entre amis et lancez la nouvelle année avec des éclats de rire et de joie ! \n\nReprésentations :\ndim. 31 décembre 2023 – 17h00\ndim. 31 décembre 2023 – 18h30\ndim. 31 décembre 2023 – 20h30\ndim. 31 décembre 2023 – 22h00\ndim. 31 décembre 2023 – 23h30 \n\nInfos Pratiques:\nLieu: L’ Improvidence  6\,rue Chaponnay 69003 LYON \n\nDurée 1h\nTarifs De 25 à 30 euros – Sur place\, règlement CB uniquement\n\nRÉSERVATIONS: THÉÂTRE
URL:https://loignon.eu/event/le-reveillon-limprovidence-lyon-f/
LOCATION:Improvidence Lyon\, 6\, rue Chaponnay\, Lyon\, 69003\, France
CATEGORIES:Prochains Spectacles
END:VEVENT
END:VCALENDAR