BEGIN:VCALENDAR
VERSION:2.0
PRODID:-//Théâtre de l&#039;Oignon - ECPv6.15.20//NONSGML v1.0//EN
CALSCALE:GREGORIAN
METHOD:PUBLISH
X-ORIGINAL-URL:https://loignon.eu
X-WR-CALDESC:Évènements pour Théâtre de l&#039;Oignon
REFRESH-INTERVAL;VALUE=DURATION:PT1H
X-Robots-Tag:noindex
X-PUBLISHED-TTL:PT1H
BEGIN:VTIMEZONE
TZID:Europe/Helsinki
BEGIN:DAYLIGHT
TZOFFSETFROM:+0200
TZOFFSETTO:+0300
TZNAME:EEST
DTSTART:20180325T010000
END:DAYLIGHT
BEGIN:STANDARD
TZOFFSETFROM:+0300
TZOFFSETTO:+0200
TZNAME:EET
DTSTART:20181028T010000
END:STANDARD
BEGIN:DAYLIGHT
TZOFFSETFROM:+0200
TZOFFSETTO:+0300
TZNAME:EEST
DTSTART:20190331T010000
END:DAYLIGHT
BEGIN:STANDARD
TZOFFSETFROM:+0300
TZOFFSETTO:+0200
TZNAME:EET
DTSTART:20191027T010000
END:STANDARD
BEGIN:DAYLIGHT
TZOFFSETFROM:+0200
TZOFFSETTO:+0300
TZNAME:EEST
DTSTART:20200329T010000
END:DAYLIGHT
BEGIN:STANDARD
TZOFFSETFROM:+0300
TZOFFSETTO:+0200
TZNAME:EET
DTSTART:20201025T010000
END:STANDARD
END:VTIMEZONE
BEGIN:VEVENT
DTSTART;TZID=Europe/Helsinki:20191026T220000
DTEND;TZID=Europe/Helsinki:20191026T230000
DTSTAMP:20260421T120551
CREATED:20191108T170627Z
LAST-MODIFIED:20191108T170627Z
UID:1668-1572127200-1572130800@loignon.eu
SUMMARY:Random - Wurzburg Intenrational Improtheater Festival
DESCRIPTION:Random (forme libre/ impro freestyle) \n« La vie est due au hasard\, l’impro aussi! » \nRandom est un spectacle d’improvisation dans sa forme la plus pure. \nRandom\, c’est un terrain de jeu pour ces grands enfants que sont les comédiens et une fenêtre ouverte sur leur imaginaire. \nA partir de rien\,  comédiens et musiciens\, embarquent dans des univers qu’ils découvrent et explorent devant vous à partir de scénographies crées spontanément. \nNos funambules de l’instant marchent sur les fils du hasard\,  se laissent porter par l’atmosphère du moment\, la musique\, la lumière et les éléments de décors placés aléatoirement sur scène.
URL:https://loignon.eu/event/random-wurzburg-intenrational-improtheater-festival/
LOCATION:Theater ensemble\, Frankfurter Straße 87\, Wurzburg\, Allemagne
CATEGORIES:Prochains Spectacles
END:VEVENT
BEGIN:VEVENT
DTSTART;TZID=Europe/Helsinki:20191031T210000
DTEND;TZID=Europe/Helsinki:20191102T233000
DTSTAMP:20260421T120551
CREATED:20191108T165924Z
LAST-MODIFIED:20191108T165924Z
UID:1666-1572555600-1572737400@loignon.eu
SUMMARY:La Chandelle
DESCRIPTION:Ils voulaient passer un moment rien que tous les deux. Malheureusement pour eux… jamais 2 sans 3.\nLa Chandelle est un long form réunissant Odile Cantero\, Fabien Strobel et Flavien Reppert.\nLe public décide qui sera la troisième roue du vélo\, la cinquième roue du carrosse\, l’incruste\, le cheveu sur la soupe\, le bouc -émissaire\, l’indésirable teneur de chandelle…\nDans la chandelle on parle de nos relations proches mais surtout des notions de rejet\, d’intolérance\, de haine\, de ségrégation\, de préjugés.
URL:https://loignon.eu/event/la-chandelle/
LOCATION:Improvidence Bordeaux\, 18\, rue des Augustins\, Bordeaux\, 33000\, France
CATEGORIES:Prochains Spectacles
END:VEVENT
END:VCALENDAR