BEGIN:VCALENDAR
VERSION:2.0
PRODID:-//Théâtre de l&#039;Oignon - ECPv6.15.20//NONSGML v1.0//EN
CALSCALE:GREGORIAN
METHOD:PUBLISH
X-WR-CALNAME:Théâtre de l&#039;Oignon
X-ORIGINAL-URL:https://loignon.eu
X-WR-CALDESC:Évènements pour Théâtre de l&#039;Oignon
REFRESH-INTERVAL;VALUE=DURATION:PT1H
X-Robots-Tag:noindex
X-PUBLISHED-TTL:PT1H
BEGIN:VTIMEZONE
TZID:Europe/Helsinki
BEGIN:DAYLIGHT
TZOFFSETFROM:+0200
TZOFFSETTO:+0300
TZNAME:EEST
DTSTART:20180325T010000
END:DAYLIGHT
BEGIN:STANDARD
TZOFFSETFROM:+0300
TZOFFSETTO:+0200
TZNAME:EET
DTSTART:20181028T010000
END:STANDARD
BEGIN:DAYLIGHT
TZOFFSETFROM:+0200
TZOFFSETTO:+0300
TZNAME:EEST
DTSTART:20190331T010000
END:DAYLIGHT
BEGIN:STANDARD
TZOFFSETFROM:+0300
TZOFFSETTO:+0200
TZNAME:EET
DTSTART:20191027T010000
END:STANDARD
BEGIN:DAYLIGHT
TZOFFSETFROM:+0200
TZOFFSETTO:+0300
TZNAME:EEST
DTSTART:20200329T010000
END:DAYLIGHT
BEGIN:STANDARD
TZOFFSETFROM:+0300
TZOFFSETTO:+0200
TZNAME:EET
DTSTART:20201025T010000
END:STANDARD
END:VTIMEZONE
BEGIN:VEVENT
DTSTART;TZID=Europe/Helsinki:20190804T210000
DTEND;TZID=Europe/Helsinki:20190804T220000
DTSTAMP:20260419T223938
CREATED:20191108T171129Z
LAST-MODIFIED:20191108T171129Z
UID:1673-1564952400-1564956000@loignon.eu
SUMMARY:Random - Belfast Impro Comedy Festival
DESCRIPTION:RANDOM\n\n\nRandom (forme libre/ impro freestyle) \n« La vie est due au hasard\, l’impro aussi! » \nRandom est un spectacle d’improvisation dans sa forme la plus pure. \nRandom\, c’est un terrain de jeu pour ces grands enfants que sont les comédiens et une fenêtre ouverte sur leur imaginaire. \nA partir de rien\,  comédiens et musiciens\, embarquent dans des univers qu’ils découvrent et explorent devant vous à partir de scénographies crées spontanément. \nNos funambules de l’instant marchent sur les fils du hasard\,  se laissent porter par l’atmosphère du moment\, la musique\, la lumière et les éléments de décors placés aléatoirement sur scène.
URL:https://loignon.eu/event/random-belfast-impro-comedy-festival/
LOCATION:Accidental Theatre\, 12-13 Shaftesbury Square\, BT2 7DB Belfast\, Belfast\, Royaume-Uni
CATEGORIES:Prochains Spectacles
END:VEVENT
END:VCALENDAR