BEGIN:VCALENDAR
VERSION:2.0
PRODID:-//Théâtre de l&#039;Oignon - ECPv6.15.20//NONSGML v1.0//EN
CALSCALE:GREGORIAN
METHOD:PUBLISH
X-WR-CALNAME:Théâtre de l&#039;Oignon
X-ORIGINAL-URL:https://loignon.eu
X-WR-CALDESC:Évènements pour Théâtre de l&#039;Oignon
REFRESH-INTERVAL;VALUE=DURATION:PT1H
X-Robots-Tag:noindex
X-PUBLISHED-TTL:PT1H
BEGIN:VTIMEZONE
TZID:Europe/Helsinki
BEGIN:DAYLIGHT
TZOFFSETFROM:+0200
TZOFFSETTO:+0300
TZNAME:EEST
DTSTART:20180325T010000
END:DAYLIGHT
BEGIN:STANDARD
TZOFFSETFROM:+0300
TZOFFSETTO:+0200
TZNAME:EET
DTSTART:20181028T010000
END:STANDARD
BEGIN:DAYLIGHT
TZOFFSETFROM:+0200
TZOFFSETTO:+0300
TZNAME:EEST
DTSTART:20190331T010000
END:DAYLIGHT
BEGIN:STANDARD
TZOFFSETFROM:+0300
TZOFFSETTO:+0200
TZNAME:EET
DTSTART:20191027T010000
END:STANDARD
BEGIN:DAYLIGHT
TZOFFSETFROM:+0200
TZOFFSETTO:+0300
TZNAME:EEST
DTSTART:20200329T010000
END:DAYLIGHT
BEGIN:STANDARD
TZOFFSETFROM:+0300
TZOFFSETTO:+0200
TZNAME:EET
DTSTART:20201025T010000
END:STANDARD
END:VTIMEZONE
BEGIN:VEVENT
DTSTART;TZID=Europe/Helsinki:20190130T203000
DTEND;TZID=Europe/Helsinki:20190202T203000
DTSTAMP:20260422T112806
CREATED:20180807T161632Z
LAST-MODIFIED:20180808T104136Z
UID:1506-1548880200-1549139400@loignon.eu
SUMMARY:Random - L'Improviste\, Bruxelles BE
DESCRIPTION:Random (forme libre/ impro freestyle) \n« La vie est due au hasard\, l’impro aussi! » \nRandom est un spectacle d’improvisation dans sa forme la plus pure. \nRandom\, c’est un terrain de jeu pour ces grands enfants que sont les comédiens et une fenêtre ouverte sur leur imaginaire. \nA partir de rien\,  comédiens et musiciens\, embarquent dans des univers qu’ils découvrent et explorent devant vous à partir de scénographies crées spontanément. \nNos funambules de l’instant marchent sur les fils du hasard\,  se laissent porter par l’atmosphère du moment\, la musique\, la lumière et les éléments de décors placés aléatoirement sur scène. \nTête d’affiche du festival international de Barcelone (BIG IF 2015)\, Random a rencontré un vif succès aux festivals internationaux d’impro à Leuven\, Brussels\, Copenhague\, Barcelone\,Tampere \, Dublin\, Athènes\, Riga\, Reykjavik\, Uppsala\, Budapest\, Amsterdam\, Londres et Saint Petersbourg. Aujourd’hui\, ce format est joué par d’autres compagnies et enseigné dans différents pays.
URL:https://loignon.eu/event/random-limproviste-bruxelles-be/
LOCATION:L’Improviste\, 120 rue de Fierlant\, Bruxelles\, Belgique
CATEGORIES:Prochains Spectacles
END:VEVENT
BEGIN:VEVENT
DTSTART;VALUE=DATE:20190208
DTEND;VALUE=DATE:20190211
DTSTAMP:20260422T112806
CREATED:20190114T180334Z
LAST-MODIFIED:20190114T181857Z
UID:1578-1549584000-1549843199@loignon.eu
SUMMARY:Fest'Impro - Matches + Contes Improvisés
DESCRIPTION:Créé en 2006\, le Fest’Impro prépare sa quatorzième édition les 7\, 8\, 9 et 10 février 2019. Organisé par l’ATHILA en partenariat avec la Ville de Saint-Louis\, ce festival de théâtre d’improvisation est un rendez-vous incontournable dans le monde de l’impro. \nChaque année\, le festival invite trois autres ligues toujours prêtes à en découdre lors de rencontres improvisées. Cette nouvelle édition regroupera plusieurs équipes de France : LE MIAM\, Le Mouvement d’Improvisation AMiénois (AMIENS · Picardie)\, Le ThÉÂtre de l’Oignon (STRASBOURG · Grand Est)\, LA LUDI IDF\, ligue universitaire (PARIS · Ile de France) et enfin L’ATHILA (SAINT-LOUIS · Grand Est). Toutes les équipes proposeront des matchs d’impro spectaculaires et s’affronteront les unes contre les autres. \nPour la première fois de son histoire\, le festival compte un jour supplémentaire d’impro et dès le jeudi soir\, vous pourrez profiter d’un premier match d’impro opposant les Juniors de l’ATHILA de Saint-Louis au groupe Néo des IMPROPULSEURS de Mulhouse ! Autre nouveauté de cette édition\, la programmation d’un spectacle scolaire proposé aux enfants des écoles primaires de Saint-Louis le vendredi après-midi. \nComme depuis de nombreuses années\, le festival accueille également un spectacle destiné au jeune public. Les enfants pourront découvrir le spectacle CONTES IMPROVISÉS proposé par les comédiens professionnels du Théâtre de l’Oignon de Strasbourg. Un musicien et deux comédiens nous transportent dans des univers féeriques et drôles où les enfants peuvent faire exister et même jouer leurs personnages sur scène aux côtés des acteurs.\nLa manifestation se déroulera au FORUM de Saint-Louis. \nLe Fest’Impro 2019 de Saint-Louis c’est donc 7 matchs\, 2 spectacles d’impro jeune public\, 6 équipes gonflées à bloc\, des improvisateurs venus de France et d’ailleurs\, une bonne centaine d’impros délirantes\, des concerts\, des expos\, à boire et à manger\, tout ça dans une ambiance de folie !!! Le rendez-vous est pris pour cette quatorzième édition du Fest’Impro. Alors ne manquez surtout pas ce rendez-vous incontournable de l’impro dans le Grand Est !!!
URL:https://loignon.eu/event/festimpro-matches-contes-improvises/
LOCATION:Le Forum\, Place du Forum\, Saint-Louis\, 68300\, France
CATEGORIES:Prochains Spectacles
END:VEVENT
BEGIN:VEVENT
DTSTART;TZID=Europe/Helsinki:20190221T193000
DTEND;TZID=Europe/Helsinki:20190223T193000
DTSTAMP:20260422T112806
CREATED:20180807T160121Z
LAST-MODIFIED:20180808T104214Z
UID:1498-1550777400-1550950200@loignon.eu
SUMMARY:Random - L'Improvidence\, Lyon FR
DESCRIPTION:Random (forme libre/ impro freestyle) \n« La vie est due au hasard\, l’impro aussi! » \nRandom est un spectacle d’improvisation dans sa forme la plus pure. \nRandom\, c’est un terrain de jeu pour ces grands enfants que sont les comédiens et une fenêtre ouverte sur leur imaginaire. \nA partir de rien\,  comédiens et musiciens\, embarquent dans des univers qu’ils découvrent et explorent devant vous à partir de scénographies crées spontanément. \nNos funambules de l’instant marchent sur les fils du hasard\,  se laissent porter par l’atmosphère du moment\, la musique\, la lumière et les éléments de décors placés aléatoirement sur scène. \nTête d’affiche du festival international de Barcelone (BIG IF 2015)\, Random a rencontré un vif succès aux festivals internationaux d’impro à Leuven\, Brussels\, Copenhague\, Barcelone\,Tampere \, Dublin\, Athènes\, Riga\, Reykjavik\, Uppsala\, Budapest\, Amsterdam\, Londres et Saint Petersbourg. Aujourd’hui\, ce format est joué par d’autres compagnies et enseigné dans différents pays.
URL:https://loignon.eu/event/random-limprovidence-lyon-fr-2/
LOCATION:Improvidence Lyon\, 6\, rue Chaponnay\, Lyon\, 69003\, France
CATEGORIES:Prochains Spectacles
END:VEVENT
BEGIN:VEVENT
DTSTART;TZID=Europe/Helsinki:20190223T180000
DTEND;TZID=Europe/Helsinki:20190223T193000
DTSTAMP:20260422T112806
CREATED:20180807T155915Z
LAST-MODIFIED:20180807T175815Z
UID:1494-1550944800-1550950200@loignon.eu
SUMMARY:La Chandelle - L'Improvidence\, Lyon FR
DESCRIPTION:La Chandelle \nIls voulaient passer un moment rien que tous les deux. Malheureusement pour eux… jamais 2 sans 3. \nLa Chandelle est un long form réunissant Odile Cantero\, Fabien Strobel et Flavien Reppert. \nLe public décide qui sera la troisième roue du vélo\, la cinquième roue du carrosse\, l’incruste\, le cheveu sur la soupe\, le bouc-émissaire\, l’indésirable teneur de chandelle… \nDans la chandelle on parle de nos relations proches mais surtout des notions de rejet\, d’intolérance\, de haine\, de ségrégation\, de préjugés. \n 
URL:https://loignon.eu/event/la-chandelle-limprovidence-lyon-fr/
LOCATION:Improvidence Lyon\, 6\, rue Chaponnay\, Lyon\, 69003\, France
CATEGORIES:Prochains Spectacles
END:VEVENT
BEGIN:VEVENT
DTSTART;TZID=Europe/Helsinki:20190224T193000
DTEND;TZID=Europe/Helsinki:20190224T210000
DTSTAMP:20260422T112806
CREATED:20180807T160941Z
LAST-MODIFIED:20180807T160942Z
UID:1503-1551036600-1551042000@loignon.eu
SUMMARY:La Chandelle - L'Improvidence\, Lyon FR
DESCRIPTION:La Chandelle \nIls voulaient passer un moment rien que tous les deux. Malheureusement pour eux… jamais 2 sans 3. \nLa Chandelle est un long form réunissant Odile Cantero\, Fabien Strobel et Flavien Reppert. \nLe public décide qui sera la troisième roue du vélo\, la cinquième roue du carrosse\, l’incruste\, le cheveu sur la soupe\, le bouc -émissaire\, l’indésirable teneur de chandelle… \nDans la chandelle on parle de nos relations proches mais surtout des notions de rejet\, d’intolérance\, de haine\, de ségrégation\, de préjugés. \n 
URL:https://loignon.eu/event/la-chandelle-limprovidence-lyon-fr-2/
LOCATION:Improvidence Lyon\, 6\, rue Chaponnay\, Lyon\, 69003\, France
CATEGORIES:Prochains Spectacles
END:VEVENT
END:VCALENDAR