BEGIN:VCALENDAR
VERSION:2.0
PRODID:-//Théâtre de l&#039;Oignon - ECPv6.15.20//NONSGML v1.0//EN
CALSCALE:GREGORIAN
METHOD:PUBLISH
X-ORIGINAL-URL:https://loignon.eu
X-WR-CALDESC:Évènements pour Théâtre de l&#039;Oignon
REFRESH-INTERVAL;VALUE=DURATION:PT1H
X-Robots-Tag:noindex
X-PUBLISHED-TTL:PT1H
BEGIN:VTIMEZONE
TZID:Europe/Helsinki
BEGIN:DAYLIGHT
TZOFFSETFROM:+0200
TZOFFSETTO:+0300
TZNAME:EEST
DTSTART:20160327T010000
END:DAYLIGHT
BEGIN:STANDARD
TZOFFSETFROM:+0300
TZOFFSETTO:+0200
TZNAME:EET
DTSTART:20161030T010000
END:STANDARD
BEGIN:DAYLIGHT
TZOFFSETFROM:+0200
TZOFFSETTO:+0300
TZNAME:EEST
DTSTART:20170326T010000
END:DAYLIGHT
BEGIN:STANDARD
TZOFFSETFROM:+0300
TZOFFSETTO:+0200
TZNAME:EET
DTSTART:20171029T010000
END:STANDARD
BEGIN:DAYLIGHT
TZOFFSETFROM:+0200
TZOFFSETTO:+0300
TZNAME:EEST
DTSTART:20180325T010000
END:DAYLIGHT
BEGIN:STANDARD
TZOFFSETFROM:+0300
TZOFFSETTO:+0200
TZNAME:EET
DTSTART:20181028T010000
END:STANDARD
END:VTIMEZONE
BEGIN:VEVENT
DTSTART;TZID=Europe/Helsinki:20171117T203000
DTEND;TZID=Europe/Helsinki:20171117T233000
DTSTAMP:20260423T124357
CREATED:20170721T152019Z
LAST-MODIFIED:20170919T174417Z
UID:1355-1510950600-1510961400@loignon.eu
SUMMARY:La Teuf des 15 ans!
DESCRIPTION:L’Oignon fête ses 15 ans d’existence sur les scènes improvisées! \nFlavien\, fondateur et metteur en scène de la Compagnie fêtera ses 20 ans d’impro! \nPour l’occasion de la Teuf\, de l’Impro\, des amis et des surprises! \nl’Oignon fait la Force!!!
URL:https://loignon.eu/event/la-teuf-des-15-ans/
LOCATION:Le Cabaret Onirique\, Presdqu ile andré malraux\, Strasbourg\, 67000\, France
CATEGORIES:Prochains Spectacles
ORGANIZER;CN="Cie Le Th%C3%A9%C3%A2tre de l'OIgnon":MAILTO:info@loignon.eu
END:VEVENT
BEGIN:VEVENT
DTSTART;TZID=Europe/Helsinki:20171118T203000
DTEND;TZID=Europe/Helsinki:20171118T233000
DTSTAMP:20260423T124357
CREATED:20170919T174851Z
LAST-MODIFIED:20170919T175607Z
UID:1379-1511037000-1511047800@loignon.eu
SUMMARY:La Teuf des 15 ans!
DESCRIPTION:n \nL’Oignon fête ses 15 ans d’existence sur les scènes improvisées! \nFlavien\, fondateur et metteur en scène de la Compagnie fêtera ses 20 ans d’impro! \nPour l’occasion de la Teuf\, de l’Impro\, des amis et des surprises! \nl’Oignon fait la Force!!!
URL:https://loignon.eu/event/la-teuf-des-15-ans-2/
LOCATION:Le Cabaret Onirique\, Presdqu ile andré malraux\, Strasbourg\, 67000\, France
END:VEVENT
END:VCALENDAR