BEGIN:VCALENDAR
VERSION:2.0
PRODID:-//Théâtre de l&#039;Oignon - ECPv6.15.20//NONSGML v1.0//EN
CALSCALE:GREGORIAN
METHOD:PUBLISH
X-WR-CALNAME:Théâtre de l&#039;Oignon
X-ORIGINAL-URL:https://loignon.eu
X-WR-CALDESC:Évènements pour Théâtre de l&#039;Oignon
REFRESH-INTERVAL;VALUE=DURATION:PT1H
X-Robots-Tag:noindex
X-PUBLISHED-TTL:PT1H
BEGIN:VTIMEZONE
TZID:UTC
BEGIN:STANDARD
TZOFFSETFROM:+0000
TZOFFSETTO:+0000
TZNAME:UTC
DTSTART:20160101T000000
END:STANDARD
END:VTIMEZONE
BEGIN:VEVENT
DTSTART;TZID=UTC:20170408T221500
DTEND;TZID=UTC:20170408T233000
DTSTAMP:20260424T013040
CREATED:20170315T161842Z
LAST-MODIFIED:20170315T161938Z
UID:1321-1491689700-1491694200@loignon.eu
SUMMARY:Random - Iceland Improv Festival\, Reykjavik
DESCRIPTION:i \nRandom is an improv show in the style of Pure Improv \nRandom is a freeform Improv Show\nRandom is a messy playground for these grown-up children that actors are and an open window on their imaginative power.Random is a freeform Improv Show \nFrom no suggestion\, actors and musicians bring you on board into different universes\, discovered in front of you\, from spontaneously created scenographies. \nAs momentum funambulists\, our improvisers walk on the edge of chaos\, let their bodies be inspired by the atmosphere of the room\, the music\, the lights\, props and settings randomly placed on stage. \nHeadliner at the Barcelona Improv Group Festival\, Random toured in Brussels\, Leuven\, Barcelona\, Tampere\, Dublin and Amsterdam and is taught\, performed and spreading through the world! \nThe Onions present various shows and offer workshops based on their style\, on organic slow improv\, on Keith Johnstone\, Del Close and a taste of Molière of course! \nhttps://www.improviceland.com/festival
URL:https://loignon.eu/event/random-reykjavik-iceland-improv-festival/
LOCATION:Nationla Theatre Iceland\, Reykjavik\, Islande
CATEGORIES:Prochains Spectacles
ORGANIZER;CN="Improv Iceland":MAILTO:Improviceland@gmail.com
END:VEVENT
BEGIN:VEVENT
DTSTART;TZID=UTC:20170414T213000
DTEND;TZID=UTC:20170414T230000
DTSTAMP:20260424T013040
CREATED:20161005T222220Z
LAST-MODIFIED:20170202T103005Z
UID:1187-1492205400-1492210800@loignon.eu
SUMMARY:Interview - Au Camionneur
DESCRIPTION:La Compagnie vous propose son Nouveau Spectacle! \nLes comédiens invitent un spectateur pour une Interview aux ptit’s Oignons qui ne manquera pas de piquant ! \nA partir des éléments récoltés\, les comédiens embarquent dans un long form improvisé\, librement inspiré de cet entretien. \nToute ressemblance avec des faits ou des personnages ayant réellement existé serait tout à fait involontaire de notre part!
URL:https://loignon.eu/event/nouveau-spectacle-au-camionneur-3/
LOCATION:Au Camionneur\, 14\, rue Georges Wodli\, Strasbourg\, 67000\, France
CATEGORIES:Prochains Spectacles
ORGANIZER;CN="Cie Le Th%C3%A9%C3%A2tre de l'OIgnon":MAILTO:info@loignon.eu
END:VEVENT
BEGIN:VEVENT
DTSTART;TZID=UTC:20170415T213000
DTEND;TZID=UTC:20170415T230000
DTSTAMP:20260424T013040
CREATED:20161005T222343Z
LAST-MODIFIED:20170202T102859Z
UID:1188-1492291800-1492297200@loignon.eu
SUMMARY:Interview - Au Camionneur
DESCRIPTION:La Compagnie vous propose son Nouveau Spectacle! \nLes comédiens invitent un spectateur pour une Interview aux ptit’s Oignons qui ne manquera pas de piquant ! \nA partir des éléments récoltés\, les comédiens embarquent dans un long form improvisé\, librement inspiré de cet entretien. \nToute ressemblance avec des faits ou des personnages ayant réellement existé serait tout à fait involontaire de notre part!
URL:https://loignon.eu/event/nouveau-spectacle-au-camionneur-4/
LOCATION:Au Camionneur\, 14\, rue Georges Wodli\, Strasbourg\, 67000\, France
CATEGORIES:Prochains Spectacles
ORGANIZER;CN="Cie Le Th%C3%A9%C3%A2tre de l'OIgnon":MAILTO:info@loignon.eu
END:VEVENT
END:VCALENDAR