BEGIN:VCALENDAR
VERSION:2.0
PRODID:-//Théâtre de l&#039;Oignon - ECPv6.15.20//NONSGML v1.0//EN
CALSCALE:GREGORIAN
METHOD:PUBLISH
X-ORIGINAL-URL:https://loignon.eu
X-WR-CALDESC:Évènements pour Théâtre de l&#039;Oignon
REFRESH-INTERVAL;VALUE=DURATION:PT1H
X-Robots-Tag:noindex
X-PUBLISHED-TTL:PT1H
BEGIN:VTIMEZONE
TZID:UTC
BEGIN:STANDARD
TZOFFSETFROM:+0000
TZOFFSETTO:+0000
TZNAME:UTC
DTSTART:20150101T000000
END:STANDARD
END:VTIMEZONE
BEGIN:VEVENT
DTSTART;TZID=UTC:20160610T200000
DTEND;TZID=UTC:20160610T230000
DTSTAMP:20260424T224952
CREATED:20160531T132839Z
LAST-MODIFIED:20160623T144159Z
UID:923-1465588800-1465599600@loignon.eu
SUMMARY:Random
DESCRIPTION:Random est un spectacle d’improvisation dans sa forme la plus pure. \nRandom\, c’est un terrain de jeu pour ces grands enfants que sont les comédiens et une fenêtre ouverte sur leur imaginaire. \nA partir de rien\,  comédiens et musiciens\, embarquent dans des univers qu’ils découvrent et explorent devant vous à partir de scénographies crées spontanément. \nNos funambules de l’instant marchent sur les fils du hasard\,  se laissent porter par l’atmosphère du moment\, la musique\, la lumière et les éléments de décors placés aléatoirement sur scène. \nTête d’affiche du festival international de Barcelone (BIG IF 2015)\, Random a rencontré un vif succès aux festivals internationaux d’impro à Leuven\, Brussels\, Copenhague\, Barcelone\,Tampere \, Dublin et Amsterdam. Aujourd’hui\, ce format est joué par d’autres compagnies et enseigné dans différents pays.
URL:https://loignon.eu/event/random/
LOCATION:Lieu sans nom\, Athènes\, Grèce
CATEGORIES:Prochains Spectacles
END:VEVENT
BEGIN:VEVENT
DTSTART;TZID=UTC:20160626T180000
DTEND;TZID=UTC:20160626T193000
DTSTAMP:20260424T224952
CREATED:20160620T152149Z
LAST-MODIFIED:20160623T131144Z
UID:931-1466964000-1466969400@loignon.eu
SUMMARY:Impulse!
DESCRIPTION:Dans le cadre de la marche gourmande de Marlenheim au domaine Xavier  son spectacle Impulse!Muller\, la Cie Le Théâtre de l’Oignon vous présente Impulse! \nUne équipe de comédiens et de musiciens prêts à tout pour partir en live. \nPour donner le tempo aux improvisateurs\, l’audience propose les thèmes et bat la mesure d’un show Rock’n Roll qui vous fera jazzer et oublier vos coups de blues. \nUn bœuf musical et théâtral improvisé où les énergies se croisent lors d’une jam session qui pulse sous vos impulsions ! \nTous en chœur : 3… 2… 1… Impulse !
URL:https://loignon.eu/event/impulse/
LOCATION:Domaine Xavier Muller\, 1\, rue du Moulin\, Marlenheim\, 67520\, France Métropolitaine
CATEGORIES:Prochains Spectacles
END:VEVENT
END:VCALENDAR