BEGIN:VCALENDAR
VERSION:2.0
PRODID:-//Théâtre de l&#039;Oignon - ECPv6.15.20//NONSGML v1.0//EN
CALSCALE:GREGORIAN
METHOD:PUBLISH
X-WR-CALNAME:Théâtre de l&#039;Oignon
X-ORIGINAL-URL:https://loignon.eu
X-WR-CALDESC:Évènements pour Théâtre de l&#039;Oignon
REFRESH-INTERVAL;VALUE=DURATION:PT1H
X-Robots-Tag:noindex
X-PUBLISHED-TTL:PT1H
BEGIN:VTIMEZONE
TZID:Europe/Paris
BEGIN:DAYLIGHT
TZOFFSETFROM:+0100
TZOFFSETTO:+0200
TZNAME:CEST
DTSTART:20230326T010000
END:DAYLIGHT
BEGIN:STANDARD
TZOFFSETFROM:+0200
TZOFFSETTO:+0100
TZNAME:CET
DTSTART:20231029T010000
END:STANDARD
BEGIN:DAYLIGHT
TZOFFSETFROM:+0100
TZOFFSETTO:+0200
TZNAME:CEST
DTSTART:20240331T010000
END:DAYLIGHT
BEGIN:STANDARD
TZOFFSETFROM:+0200
TZOFFSETTO:+0100
TZNAME:CET
DTSTART:20241027T010000
END:STANDARD
BEGIN:DAYLIGHT
TZOFFSETFROM:+0100
TZOFFSETTO:+0200
TZNAME:CEST
DTSTART:20250330T010000
END:DAYLIGHT
BEGIN:STANDARD
TZOFFSETFROM:+0200
TZOFFSETTO:+0100
TZNAME:CET
DTSTART:20251026T010000
END:STANDARD
END:VTIMEZONE
BEGIN:VEVENT
DTSTART;TZID=Europe/Paris:20240418T193000
DTEND;TZID=Europe/Paris:20240420T210000
DTSTAMP:20260424T065828
CREATED:20240415T140630Z
LAST-MODIFIED:20240415T140630Z
UID:2025-1713468600-1713646800@loignon.eu
SUMMARY:Random @Improvidence\, Lyon (F)
DESCRIPTION:
URL:https://loignon.eu/event/random-improvidence-lyon-f-2/
LOCATION:Improvidence Lyon\, 6\, rue Chaponnay\, Lyon\, 69003\, France
CATEGORIES:Prochains Spectacles
ORGANIZER;CN="Cie Le Th%C3%A9%C3%A2tre de l'OIgnon":MAILTO:info@loignon.eu
END:VEVENT
END:VCALENDAR