BEGIN:VCALENDAR
VERSION:2.0
PRODID:-//Théâtre de l&#039;Oignon - ECPv6.15.20//NONSGML v1.0//EN
CALSCALE:GREGORIAN
METHOD:PUBLISH
X-WR-CALNAME:Théâtre de l&#039;Oignon
X-ORIGINAL-URL:https://loignon.eu
X-WR-CALDESC:Évènements pour Théâtre de l&#039;Oignon
REFRESH-INTERVAL;VALUE=DURATION:PT1H
X-Robots-Tag:noindex
X-PUBLISHED-TTL:PT1H
BEGIN:VTIMEZONE
TZID:Europe/Helsinki
BEGIN:DAYLIGHT
TZOFFSETFROM:+0200
TZOFFSETTO:+0300
TZNAME:EEST
DTSTART:20220327T010000
END:DAYLIGHT
BEGIN:STANDARD
TZOFFSETFROM:+0300
TZOFFSETTO:+0200
TZNAME:EET
DTSTART:20221030T010000
END:STANDARD
BEGIN:DAYLIGHT
TZOFFSETFROM:+0200
TZOFFSETTO:+0300
TZNAME:EEST
DTSTART:20230326T010000
END:DAYLIGHT
BEGIN:STANDARD
TZOFFSETFROM:+0300
TZOFFSETTO:+0200
TZNAME:EET
DTSTART:20231029T010000
END:STANDARD
BEGIN:DAYLIGHT
TZOFFSETFROM:+0200
TZOFFSETTO:+0300
TZNAME:EEST
DTSTART:20240331T010000
END:DAYLIGHT
BEGIN:STANDARD
TZOFFSETFROM:+0300
TZOFFSETTO:+0200
TZNAME:EET
DTSTART:20241027T010000
END:STANDARD
END:VTIMEZONE
BEGIN:VEVENT
DTSTART;TZID=Europe/Helsinki:20230412T193000
DTEND;TZID=Europe/Helsinki:20230415T203000
DTSTAMP:20260423T203805
CREATED:20230106T093230Z
LAST-MODIFIED:20230106T093230Z
UID:1809-1681327800-1681590600@loignon.eu
SUMMARY:Random @Improvidence\, Lyon
DESCRIPTION:« La vie est due au hasard\, l’impro aussi! » \nRandom est un spectacle d’improvisation dans sa forme la plus pure. \nRandom\, c’est un terrain de jeu pour ces grands enfants que sont les comédiens et une fenêtre ouverte sur leur imaginaire. \nA partir de rien\, comédiens et musiciens\, embarquent dans des univers qu’ils découvrent et explorent devant vous à partir de scénographies crées spontanément. \nNos funambules de l’instant marchent sur les fils du hasard\, se laissent porter par l’atmosphère du moment\, la musique\, la lumière et les éléments de décors placés aléatoirement sur scène.
URL:https://loignon.eu/event/random-improvidence-lyon-2/
LOCATION:Improvidence Lyon\, 6\, rue Chaponnay\, Lyon\, 69003\, France
CATEGORIES:Prochains Spectacles
END:VEVENT
END:VCALENDAR