BEGIN:VCALENDAR
VERSION:2.0
PRODID:-//Théâtre de l&#039;Oignon - ECPv6.15.20//NONSGML v1.0//EN
CALSCALE:GREGORIAN
METHOD:PUBLISH
X-ORIGINAL-URL:https://loignon.eu
X-WR-CALDESC:Évènements pour Théâtre de l&#039;Oignon
REFRESH-INTERVAL;VALUE=DURATION:PT1H
X-Robots-Tag:noindex
X-PUBLISHED-TTL:PT1H
BEGIN:VTIMEZONE
TZID:Europe/Helsinki
BEGIN:DAYLIGHT
TZOFFSETFROM:+0200
TZOFFSETTO:+0300
TZNAME:EEST
DTSTART:20170326T010000
END:DAYLIGHT
BEGIN:STANDARD
TZOFFSETFROM:+0300
TZOFFSETTO:+0200
TZNAME:EET
DTSTART:20171029T010000
END:STANDARD
BEGIN:DAYLIGHT
TZOFFSETFROM:+0200
TZOFFSETTO:+0300
TZNAME:EEST
DTSTART:20180325T010000
END:DAYLIGHT
BEGIN:STANDARD
TZOFFSETFROM:+0300
TZOFFSETTO:+0200
TZNAME:EET
DTSTART:20181028T010000
END:STANDARD
BEGIN:DAYLIGHT
TZOFFSETFROM:+0200
TZOFFSETTO:+0300
TZNAME:EEST
DTSTART:20190331T010000
END:DAYLIGHT
BEGIN:STANDARD
TZOFFSETFROM:+0300
TZOFFSETTO:+0200
TZNAME:EET
DTSTART:20191027T010000
END:STANDARD
END:VTIMEZONE
BEGIN:VEVENT
DTSTART;TZID=Europe/Helsinki:20180629T203000
DTEND;TZID=Europe/Helsinki:20180629T233000
DTSTAMP:20260423T005848
CREATED:20180326T175313Z
LAST-MODIFIED:20180515T160020Z
UID:1443-1530304200-1530315000@loignon.eu
SUMMARY:La Teuf de l’Impro 7! #1
DESCRIPTION:La Compagnie du Théâtre de l’Oignon fête 15 ans d’impro\, 1000 spectacles et une tournée mondiale de plus de 25 pays parcourus en 5 ans! \nFière de  ses voyages et de son rayonnement international\, La Compagnie revient poser ses valises\, le temps d’un week-end à Strasbourg pour 2 soirées exceptionnelles d’impro et de Teuf! \nPour la 7 ème édition de la Teuf de l’Impro\, l’Oignon reçoit ds invités exceptionnels des 4 coins de France pour partager le meilleur de l’impro avec vous!
URL:https://loignon.eu/event/teuf-de-limpro-71/
LOCATION:Le Cabaret Onirique\, Presdqu ile andré malraux\, Strasbourg\, 67000\, France
CATEGORIES:Prochains Spectacles
ORGANIZER;CN="Cie Le Th%C3%A9%C3%A2tre de l'OIgnon":MAILTO:info@loignon.eu
END:VEVENT
END:VCALENDAR