BEGIN:VCALENDAR
VERSION:2.0
PRODID:-//Théâtre de l&#039;Oignon - ECPv6.15.20//NONSGML v1.0//EN
CALSCALE:GREGORIAN
METHOD:PUBLISH
X-ORIGINAL-URL:https://loignon.eu
X-WR-CALDESC:Évènements pour Théâtre de l&#039;Oignon
REFRESH-INTERVAL;VALUE=DURATION:PT1H
X-Robots-Tag:noindex
X-PUBLISHED-TTL:PT1H
BEGIN:VTIMEZONE
TZID:Europe/Helsinki
BEGIN:DAYLIGHT
TZOFFSETFROM:+0200
TZOFFSETTO:+0300
TZNAME:EEST
DTSTART:20160327T010000
END:DAYLIGHT
BEGIN:STANDARD
TZOFFSETFROM:+0300
TZOFFSETTO:+0200
TZNAME:EET
DTSTART:20161030T010000
END:STANDARD
BEGIN:DAYLIGHT
TZOFFSETFROM:+0200
TZOFFSETTO:+0300
TZNAME:EEST
DTSTART:20170326T010000
END:DAYLIGHT
BEGIN:STANDARD
TZOFFSETFROM:+0300
TZOFFSETTO:+0200
TZNAME:EET
DTSTART:20171029T010000
END:STANDARD
BEGIN:DAYLIGHT
TZOFFSETFROM:+0200
TZOFFSETTO:+0300
TZNAME:EEST
DTSTART:20180325T010000
END:DAYLIGHT
BEGIN:STANDARD
TZOFFSETFROM:+0300
TZOFFSETTO:+0200
TZNAME:EET
DTSTART:20181028T010000
END:STANDARD
END:VTIMEZONE
BEGIN:VEVENT
DTSTART;TZID=Europe/Helsinki:20171020T200000
DTEND;TZID=Europe/Helsinki:20171020T200000
DTSTAMP:20260423T160808
CREATED:20170804T161734Z
LAST-MODIFIED:20170804T161734Z
UID:1371-1508529600-1508529600@loignon.eu
SUMMARY:Random - Slapdash Festival\, Londres (GB)
DESCRIPTION:Random is an improv show in the style of Pure Improv \nRandom is a freeform Improv Show\nRandom is a freeform Improv Show\nRandom is a messy playground for these grown-up children that actors are and an open window on their imaginative power.Random is a freeform Improv Show \nRandom is a freeform Improv Show\nFrom no suggestion\, actors and musicians bring you on board into different universes\, discovered in front of you\, from spontaneously created scenographies. \nAs momentum funambulists\, our improvisers walk on the edge of chaos\, let their bodies be inspired by the atmosphere of the room\, the music\, the lights\, props and settings randomly placed on stage. \nHeadliner at the Barcelona Improv Group Festival\, Random toured in Brussels\, Leuven\, Barcelona\, Tampere\, Dublin and Amsterdam and is taught\, performed and spreading through the world! \nThe Onions present various shows and offer workshops based on their style\, on organic slow improv\, on Keith Johnstone\, Del Close and a taste of Molière of course!
URL:https://loignon.eu/event/random-slapdash-festival-londres-gb/
LOCATION:The Nursery Theatre\, 2\, Finsbury avenue square\, Londres\, Royaume-Uni
CATEGORIES:Prochains Spectacles
END:VEVENT
END:VCALENDAR