BEGIN:VCALENDAR
VERSION:2.0
PRODID:-//Théâtre de l&#039;Oignon - ECPv6.15.20//NONSGML v1.0//EN
CALSCALE:GREGORIAN
METHOD:PUBLISH
X-WR-CALNAME:Théâtre de l&#039;Oignon
X-ORIGINAL-URL:https://loignon.eu
X-WR-CALDESC:Évènements pour Théâtre de l&#039;Oignon
REFRESH-INTERVAL;VALUE=DURATION:PT1H
X-Robots-Tag:noindex
X-PUBLISHED-TTL:PT1H
BEGIN:VTIMEZONE
TZID:UTC
BEGIN:STANDARD
TZOFFSETFROM:+0000
TZOFFSETTO:+0000
TZNAME:UTC
DTSTART:20160101T000000
END:STANDARD
END:VTIMEZONE
BEGIN:VEVENT
DTSTART;TZID=UTC:20170323T200000
DTEND;TZID=UTC:20170323T230000
DTSTAMP:20260424T050325
CREATED:20170201T183608Z
LAST-MODIFIED:20170201T183608Z
UID:1315-1490299200-1490310000@loignon.eu
SUMMARY:Random - Swimp17\, Uppsala\, Suède
DESCRIPTION:On part en Suède! Jouer notre spectacle international! \n« La vie est due au hasard\, l’impro aussi! » \nRandom est un spectacle d’improvisation dans sa forme la plus pure. \nRandom\, c’est un terrain de jeu pour ces grands enfants que sont les comédiens et une fenêtre ouverte sur leur imaginaire. \nA partir de rien\,  comédiens et musiciens\, embarquent dans des univers qu’ils découvrent et explorent devant vous à partir de scénographies crées spontanément. \nNos funambules de l’instant marchent sur les fils du hasard\,  se laissent porter par l’atmosphère du moment\, la musique\, la lumière et les éléments de décors placés aléatoirement sur scène. \nTête d’affiche du festival international de Barcelone (BIG IF 2015)\, Random a rencontré un vif succès aux festivals internationaux d’impro à Leuven\, Brussels\, Copenhague\, Barcelone\,Tampere \, Dublin et Amsterdam. Aujourd’hui\, ce format est joué par d’autres compagnies et enseigné dans différents pays.
URL:https://loignon.eu/event/random-swimp17-uppsala-suede/
LOCATION:Reginatheater\, Trädgårdsgatan 6\, Uppsala\, 753 75\, Suède
ORGANIZER;CN="SWIMP":MAILTO:hello@swedenimprovfestival.com
END:VEVENT
END:VCALENDAR