BEGIN:VCALENDAR
VERSION:2.0
PRODID:-//Théâtre de l&#039;Oignon - ECPv6.15.20//NONSGML v1.0//EN
CALSCALE:GREGORIAN
METHOD:PUBLISH
X-WR-CALNAME:Théâtre de l&#039;Oignon
X-ORIGINAL-URL:https://loignon.eu
X-WR-CALDESC:Évènements pour Théâtre de l&#039;Oignon
REFRESH-INTERVAL;VALUE=DURATION:PT1H
X-Robots-Tag:noindex
X-PUBLISHED-TTL:PT1H
BEGIN:VTIMEZONE
TZID:UTC
BEGIN:STANDARD
TZOFFSETFROM:+0000
TZOFFSETTO:+0000
TZNAME:UTC
DTSTART:20160101T000000
END:STANDARD
END:VTIMEZONE
BEGIN:VEVENT
DTSTART;TZID=UTC:20170204T213000
DTEND;TZID=UTC:20170204T230000
DTSTAMP:20260424T065707
CREATED:20161005T222014Z
LAST-MODIFIED:20170201T161951Z
UID:1186-1486243800-1486249200@loignon.eu
SUMMARY:Interview - Au Camionneur
DESCRIPTION:Les comédiens invitent un spectateur pour une Interview aux ptit’s OIgnons qui ne manquera pas de piquant ! \nA partir des éléments récoltés\, les comédiens embarquent dans un long form improvisé\, librement inspiré de cet entretien. \nToute ressemblance avec des faits ou des personnages ayant réellement existé serait tout à fait involontaire de notre part!
URL:https://loignon.eu/event/nouveau-spectacle-au-camionneur-2/
LOCATION:Au Camionneur\, 14\, rue Georges Wodli\, Strasbourg\, 67000\, France
CATEGORIES:Prochains Spectacles
ORGANIZER;CN="Cie Le Th%C3%A9%C3%A2tre de l'OIgnon":MAILTO:info@loignon.eu
END:VEVENT
END:VCALENDAR