BEGIN:VCALENDAR
VERSION:2.0
PRODID:-//Théâtre de l&#039;Oignon - ECPv6.15.20//NONSGML v1.0//EN
CALSCALE:GREGORIAN
METHOD:PUBLISH
X-ORIGINAL-URL:https://loignon.eu
X-WR-CALDESC:Évènements pour Théâtre de l&#039;Oignon
REFRESH-INTERVAL;VALUE=DURATION:PT1H
X-Robots-Tag:noindex
X-PUBLISHED-TTL:PT1H
BEGIN:VTIMEZONE
TZID:UTC
BEGIN:STANDARD
TZOFFSETFROM:+0000
TZOFFSETTO:+0000
TZNAME:UTC
DTSTART:20150101T000000
END:STANDARD
END:VTIMEZONE
BEGIN:VEVENT
DTSTART;TZID=UTC:20161130T213000
DTEND;TZID=UTC:20161130T230000
DTSTAMP:20260424T102743
CREATED:20161005T215548Z
LAST-MODIFIED:20161005T222050Z
UID:1176-1480541400-1480546800@loignon.eu
SUMMARY:Nouveau spectacle! - Au Camionneur
DESCRIPTION:Nouvelle saison\, nouveau spectacle!\nL’Oignon vous mijote un spectacle de forme longue complètement improvisé\, complètement prenant et complètement barré!\nVenez découvrir la nouvelle équipe\, les ingrédients secret et l’OIGNON QUI FAIT NOTRE FORCE!
URL:https://loignon.eu/event/nouveau-spectacle/
LOCATION:Au Camionneur\, 14\, rue Georges Wodli\, Strasbourg\, 67000\, France
CATEGORIES:Prochains Spectacles
ORGANIZER;CN="Cie Le Th%C3%A9%C3%A2tre de l'OIgnon":MAILTO:info@loignon.eu
END:VEVENT
END:VCALENDAR