BEGIN:VCALENDAR
VERSION:2.0
PRODID:-//Théâtre de l&#039;Oignon - ECPv6.15.20//NONSGML v1.0//EN
CALSCALE:GREGORIAN
METHOD:PUBLISH
X-ORIGINAL-URL:https://loignon.eu
X-WR-CALDESC:Évènements pour Théâtre de l&#039;Oignon
REFRESH-INTERVAL;VALUE=DURATION:PT1H
X-Robots-Tag:noindex
X-PUBLISHED-TTL:PT1H
BEGIN:VTIMEZONE
TZID:UTC
BEGIN:STANDARD
TZOFFSETFROM:+0000
TZOFFSETTO:+0000
TZNAME:UTC
DTSTART:20150101T000000
END:STANDARD
END:VTIMEZONE
BEGIN:VEVENT
DTSTART;TZID=UTC:20161110T203000
DTEND;TZID=UTC:20161110T214500
DTSTAMP:20260424T122550
CREATED:20161004T173649Z
LAST-MODIFIED:20161005T220749Z
UID:1171-1478809800-1478814300@loignon.eu
SUMMARY:Random - Dublin (IRL)
DESCRIPTION:Les Oignons seront à nouveau cette année à Dublin pour jouer Random dans le cadre du festival international d’Impro: Improv Fest Ireland 2016
URL:https://loignon.eu/event/random-2/
LOCATION:The Teacher’s club Theatre\, 36 Parnell Square West  \, Dublin\, Irlande
CATEGORIES:Prochains Spectacles
ORGANIZER;CN="ImprovFest Ireland":MAILTO:yesand@improvfestireland.com
END:VEVENT
END:VCALENDAR