BEGIN:VCALENDAR
VERSION:2.0
PRODID:-//Théâtre de l&#039;Oignon - ECPv6.15.20//NONSGML v1.0//EN
CALSCALE:GREGORIAN
METHOD:PUBLISH
X-WR-CALNAME:Théâtre de l&#039;Oignon
X-ORIGINAL-URL:https://loignon.eu
X-WR-CALDESC:Évènements pour Théâtre de l&#039;Oignon
REFRESH-INTERVAL;VALUE=DURATION:PT1H
X-Robots-Tag:noindex
X-PUBLISHED-TTL:PT1H
BEGIN:VTIMEZONE
TZID:UTC
BEGIN:STANDARD
TZOFFSETFROM:+0000
TZOFFSETTO:+0000
TZNAME:UTC
DTSTART:20150101T000000
END:STANDARD
END:VTIMEZONE
BEGIN:VEVENT
DTSTART;TZID=UTC:20161001T140000
DTEND;TZID=UTC:20161001T180000
DTSTAMP:20260424T164048
CREATED:20161004T150341Z
LAST-MODIFIED:20161005T221434Z
UID:1160-1475330400-1475344800@loignon.eu
SUMMARY:L'Orchestre D-Mo - Haguenau (67)
DESCRIPTION:La commagnie anime les stands des 10 ans de Ritmo à Haguenau\, l’Orchestre D-Mo improvise autour de vos mots et en musique pour celebrer les transports!
URL:https://loignon.eu/event/lorchestre-d-mo-2/
LOCATION:Place de la decapole\, Haguenau\, 67500\, France
END:VEVENT
BEGIN:VEVENT
DTSTART;TZID=UTC:20161001T190000
DTEND;TZID=UTC:20161001T233000
DTSTAMP:20260424T164048
CREATED:20161004T154818Z
LAST-MODIFIED:20161004T155005Z
UID:1166-1475348400-1475364600@loignon.eu
SUMMARY:Monsieur Royal fait l'Ouverture de saison à Django
DESCRIPTION:Dans le cadre de la soirée d’oiverture de saison de l’Espace Culturel Django Rheinhardt à Strasbourg\, la Cie du Théâtre de l’Oignon propose les services de son Monsieur Royal! Un Mc décalé qui presentera les différents évènements et temps forts pour rendre inoibliable cette cette soirée exceptionnelle!
URL:https://loignon.eu/event/ouverture-de-saison/
LOCATION:Espace Culturel Django Reinhardt\, 4\, impasse Kiefer\, Strasbourg\, 67100\, France
END:VEVENT
END:VCALENDAR